{
 "currentVersion": 10.91,
 "serviceDescription": "Narcis/Habitatna_ustreznost_jelen_D96",
 "name": "Narcis/Habitatna_ustreznost_jelen_D96",
 "description": "",
 "extent": {
  "xmin": 373626.547062333,
  "ymin": 30489.380061681382,
  "xmax": 624626.547062333,
  "ymax": 194489.38006168138,
  "spatialReference": {
   "wkid": 3794,
   "latestWkid": 3794
  }
 },
 "initialExtent": {
  "xmin": 373626.547062333,
  "ymin": 30489.380061681382,
  "xmax": 624626.547062333,
  "ymax": 194489.38006168138,
  "spatialReference": {
   "wkid": 3794,
   "latestWkid": 3794
  }
 },
 "fullExtent": {
  "xmin": 373626.547062333,
  "ymin": 30489.380061681382,
  "xmax": 624626.547062333,
  "ymax": 194489.38006168138,
  "spatialReference": {
   "wkid": 3794,
   "latestWkid": 3794
  }
 },
 "pixelSizeX": 1000,
 "pixelSizeY": 1000,
 "bandCount": 1,
 "pixelType": "F32",
 "minPixelSize": 0,
 "maxPixelSize": 0,
 "copyrightText": "",
 "serviceDataType": "esriImageServiceDataTypeGeneric",
 "minValues": [
  1.7014117965752E36
 ],
 "maxValues": [
  3.4028234663853E38
 ],
 "meanValues": [
  2.5724832884066E38
 ],
 "stdvValues": [
  9.8798646643457E37
 ],
 "objectIdField": "",
 "fields": [],
 "capabilities": "Image,Metadata,Mensuration",
 "defaultMosaicMethod": "Center",
 "allowedMosaicMethods": "",
 "sortField": "",
 "sortValue": null,
 "sortAscending": true,
 "mosaicOperator": "First",
 "defaultCompressionQuality": 75,
 "defaultResamplingMethod": "Bilinear",
 "maxImageHeight": 4100,
 "maxImageWidth": 15000,
 "allowRasterFunction": true,
 "rasterFunctionInfos": [
  {
   "name": "None",
   "description": "",
   "help": ""
  }
 ],
 "rasterTypeInfos": [
  {
   "name": "Raster Dataset",
   "description": "Supports all ArcGIS Raster Datasets",
   "help": ""
  }
 ],
 "mensurationCapabilities": "Basic",
 "hasHistograms": false,
 "hasColormap": false,
 "hasRasterAttributeTable": false,
 "minScale": 0,
 "maxScale": 0,
 "exportTilesAllowed": false,
 "hasMultidimensions": false,
 "supportsStatistics": false,
 "supportsAdvancedQueries": false,
 "editFieldsInfo": null,
 "ownershipBasedAccessControlForRasters": null,
 "allowComputeTiePoints": false,
 "useStandardizedQueries": true,
 "advancedQueryCapabilities": {
  "useStandardizedQueries": true,
  "supportsStatistics": false,
  "supportsOrderBy": false,
  "supportsDistinct": false,
  "supportsPagination": false
 },
 "spatialReference": {
  "wkid": 3794,
  "latestWkid": 3794
 }
}
