{
 "currentVersion": 10.91,
 "serviceDescription": "Slovenija_DMR_D96TM",
 "name": "Slovenija_DMR_D96TM",
 "description": "",
 "extent": {
  "xmin": 373999.96,
  "ymin": 30999.929999999993,
  "xmax": 623999.96,
  "ymax": 194999.93,
  "spatialReference": {
   "wkid": 3794,
   "latestWkid": 3794
  }
 },
 "initialExtent": {
  "xmin": 373999.96,
  "ymin": 30999.929999999993,
  "xmax": 623999.96,
  "ymax": 194999.93,
  "spatialReference": {
   "wkid": 3794,
   "latestWkid": 3794
  }
 },
 "fullExtent": {
  "xmin": 373999.96,
  "ymin": 30999.929999999993,
  "xmax": 623999.96,
  "ymax": 194999.93,
  "spatialReference": {
   "wkid": 3794,
   "latestWkid": 3794
  }
 },
 "pixelSizeX": 0.9999999999999998,
 "pixelSizeY": 1,
 "bandCount": 1,
 "pixelType": "F32",
 "minPixelSize": 0,
 "maxPixelSize": 0,
 "copyrightText": "",
 "serviceDataType": "esriImageServiceDataTypeGeneric",
 "minValues": [],
 "maxValues": [],
 "meanValues": [],
 "stdvValues": [],
 "objectIdField": "",
 "fields": [],
 "capabilities": "Image,Metadata,Mensuration",
 "defaultMosaicMethod": "Center",
 "allowedMosaicMethods": "",
 "sortField": "",
 "sortValue": null,
 "sortAscending": true,
 "mosaicOperator": "First",
 "defaultCompressionQuality": 75,
 "defaultResamplingMethod": "Bilinear",
 "maxImageHeight": 4100,
 "maxImageWidth": 15000,
 "allowRasterFunction": true,
 "rasterFunctionInfos": [
  {
   "name": "None",
   "description": "",
   "help": ""
  }
 ],
 "rasterTypeInfos": [
  {
   "name": "Raster Dataset",
   "description": "Supports all ArcGIS Raster Datasets",
   "help": ""
  }
 ],
 "mensurationCapabilities": "Basic",
 "hasHistograms": false,
 "hasColormap": false,
 "hasRasterAttributeTable": false,
 "minScale": 0,
 "maxScale": 0,
 "exportTilesAllowed": false,
 "hasMultidimensions": false,
 "supportsStatistics": false,
 "supportsAdvancedQueries": false,
 "editFieldsInfo": null,
 "ownershipBasedAccessControlForRasters": null,
 "allowComputeTiePoints": false,
 "useStandardizedQueries": true,
 "advancedQueryCapabilities": {
  "useStandardizedQueries": true,
  "supportsStatistics": false,
  "supportsOrderBy": false,
  "supportsDistinct": false,
  "supportsPagination": false
 },
 "spatialReference": {
  "wkid": 3794,
  "latestWkid": 3794
 }
}
