View In:
ArcGIS JavaScript
ArcGIS Online Map Viewer
ArcGIS Earth
ArcMap
View Footprint In:
ArcGIS Online Map Viewer
Service Description: Narcis/Habitatna_ustreznost_jelen_D96
Name: Narcis/Habitatna_ustreznost_jelen_D96
Description:
Single Fused Map Cache: false
Extent:
XMin: 373626.547062333
YMin: 30489.380061681382
XMax: 624626.547062333
YMax: 194489.38006168138
Spatial Reference: 3794
(3794)
LatestVCSWkid(0)
Initial Extent:
XMin: 373626.547062333
YMin: 30489.380061681382
XMax: 624626.547062333
YMax: 194489.38006168138
Spatial Reference: 3794
(3794)
LatestVCSWkid(0)
Full Extent:
XMin: 373626.547062333
YMin: 30489.380061681382
XMax: 624626.547062333
YMax: 194489.38006168138
Spatial Reference: 3794
(3794)
LatestVCSWkid(0)
Pixel Size X: 1000.0
Pixel Size Y: 1000.0
Band Count: 1
Pixel Type: F32
RasterFunction Infos: {"rasterFunctionInfos": [{
"name": "None",
"description": "",
"help": ""
}]}
Mensuration Capabilities: Basic
Has Histograms: false
Has Colormap: false
Has Multi Dimensions : false
Rendering Rule:
Min Scale: 0
Max Scale: 0
Copyright Text:
Service Data Type: esriImageServiceDataTypeGeneric
Min Values: 1.7014117965752E36
Max Values: 3.4028234663853E38
Mean Values: 2.5724832884066E38
Standard Deviation Values: 9.8798646643457E37
Object ID Field:
Fields:
None
Default Mosaic Method: Center
Allowed Mosaic Methods:
SortField:
SortValue: null
Mosaic Operator: First
Default Compression Quality: 75
Default Resampling Method: Bilinear
Max Record Count: null
Max Image Height: 4100
Max Image Width: 15000
Max Download Image Count: null
Max Mosaic Image Count: null
Allow Raster Function: true
Allow Copy: null
Allow Analysis: null
Allow Compute TiePoints: false
Supports Statistics: false
Supports Advanced Queries: false
Use StandardizedQueries: true
Raster Type Infos:
Name: Raster Dataset
Description: Supports all ArcGIS Raster Datasets
Help:
Has Raster Attribute Table: false
Edit Fields Info: null
Ownership Based AccessControl For Rasters: null
Child Resources:
Info
Key Properties
Legend
Raster Function Infos
Supported Operations:
Export Image
Identify
Measure
Compute Histograms
Compute Statistics Histograms
Get Samples
Compute Class Statistics
Query Boundary
Compute Pixel Location
Compute Angles
Validate
Project